BEGIN:VCALENDAR
VERSION:2.0
PRODID:-//hacksw/handcal//NONSGML v1.0//EN
BEGIN:VEVENT
SUMMARY:2eme Competition EDUC - St Aignan de Grand Lieu
UID:9e457eac-f6b1-43bf-a7f2-745ddf833619
DTSTART:20260612T220000Z
DTEND:20260614T220000Z
LOCATION:Localisation   
CATEGORIES:Sportif
STATUS:
URL;VALUE=URI:https://albouaye-gym.sportsregions.fr/evenements/2026/06/13/2eme-competition-educ-st-aignan-de-grand-lieu-2436106
END:VEVENT
END:VCALENDAR
